BEGIN:VCALENDAR
VERSION:2.0
PRODID:-//ChamberMaster//Event Calendar 2.0//EN
METHOD:PUBLISH
X-PUBLISHED-TTL:P3D
REFRESH-INTERVAL:P3D
CALSCALE:GREGORIAN
BEGIN:VEVENT
DTSTART:20250223T200000Z
DTEND:20250223T213000Z
X-MICROSOFT-CDO-ALLDAYEVENT:FALSE
SUMMARY:21st Annual Benefit Concert featuring Northfield Mountain Hermon Instrumental Ensembles
DESCRIPTION:Supporting LifePath.\n\n\n\nMembers of the NMH Orchestra\, Concert Band and Jazz Ensemble are delighted to present this fundraising concert to help raise money for the many valuable programs that LifePath provides.\n\nLight refreshments will be provided free of charge.
X-ALT-DESC;FMTTYPE=text/html:Supporting LifePath.<br />\n<br />\nMembers of the NMH Orchestra\, Concert Band and Jazz Ensemble are delighted to present this fundraising concert to help raise money for the many valuable programs that LifePath provides.<br />\nLight refreshments will be provided free of charge.
LOCATION:Rhodes Arts Center Northfield Mount Hermon School One Lamplighter Way Mount Hewrmon
UID:e.2182.24257
SEQUENCE:3
DTSTAMP:20260424T002650Z
URL:https://chamber.franklincc.org/events/details/21st-annual-benefit-concert-featuring-northfield-mountain-hermon-instrumental-ensembles-24257
END:VEVENT

END:VCALENDAR
