BEGIN:VCALENDAR
VERSION:2.0
PRODID:-//ChamberMaster//Event Calendar 2.0//EN
METHOD:PUBLISH
X-PUBLISHED-TTL:P3D
REFRESH-INTERVAL:P3D
CALSCALE:GREGORIAN
BEGIN:VEVENT
DTSTART:20250906T120000Z
DTEND:20250907T020000Z
X-MICROSOFT-CDO-ALLDAYEVENT:FALSE
SUMMARY:176th Annual Franklin County Fair
DESCRIPTION:FAIR & MIDWAY HOURS\n\nThursday:  Gates Open at 3:00 pm\n\nMidway at 4:00 pm\n\nFriday:  Gates Open at 3:00 pm\n\nMidway at 4:00 pm\n\nSaturday & Sunday:  \n\nGates Open at 8:00 am\n\nMidway at 12:00 pm \n\n \n\nBUILDING HOURS:\n\nThursday:  3:00 pm - 9:00 pm\n\n(Roundhouse opens at 5:00 pm)\n\nFriday:  3:00 pm - 9:00 pm\n\nSaturday:  10:00 am - 9:00 pm\n\nSunday:  10:00 am - 8:00 pm\n\nMuseum Hours\n\nThursday:  3:00 pm - 8:00 pm\n\nFriday:  3:00 pm - 8:00 pm\n\nSaturday:  8:00 am - 8:00 pm\n\nSunday:  8:00 am - 6:00 pm\n\n \n\nColeman Brothers Shows Midway\n\nPirate Man Dan   Axe Women Loggers of Maine \n\n Flippenout Trampoline Show\n\nDemolition Derby   Kids Power Wheels Demo\n\nTruck Pull    Team East BMX   Shriners Clowns\n\nLittle Diggers Construction Co.\n\nFlying High Frisbee Dogs\n\nReptiles of New England\n\n22NEWS and CW Springfield Community Stage\n\nAgricultural Exhibits & Competitions\n\nBaby Barnyard   Reptiles of New England \n\nFish & Wildlife Exhibits\n\nCommercial Exhibits   Fair Museum\n\nCraft Vendors and much\, much more!\n\n \n\nFAIR SHUTTLE\n\nFree shuttle bus Noon-9:00 pm Saturday & Sunday\n\nto the fairgrounds. \n\nPick up and drop off at the Olive Street \n\nParking Garage and the Fairgrounds front gate\n\nFree Parking at parking garage.\n\nSaturday\, September 6\n\n  8:00 am Gates Open\n\n10:00 am Children's play area opens \n\n11:15 pm Flying High Frisbee Dogs \n\n12:00 pm Midway Opens \n\n12:00 pm Reptiles of New England \n\nl2:00 pm Rock and Roll Racing\n\n12:00 pm Axe Women Loggers of Maine \n\n12:45 pm Flippenout Trampoline Show\n\n1:00 pm Kids Power Wheel Demo\n\n1:15 pm Team East BMX\n\n1:45 pm Pirate Man Dan \n\n2:00 pm Reptiles of New England\n\n2:30 pm Flying High Frisbee Dogs \n\n3:15 pm Axe Women Loggers of Maine\n\n4:00 pm Reptiles of New England\n\n4:00 pm Flippenout Trampoline Show\n\n4:15 pm Team East BMX\n\n5:00 pm Flying High Frisbee Dogs \n\n5:45 pm Pirate Man Dan\n\n6:00 pm Reptiles of New England\n\n6:00 pm Stoney Roberts'  Demo Derby\n\n6:30 pm Flippenout Trampoline Show\n\n7:00 pm Fire Spinning by Sam Staples\n\n7:15 pm Axe Women Loggers of Maine
X-ALT-DESC;FMTTYPE=text/html:<p style="box-sizing: border-box\; margin-top: 0px\; margin-bottom: 1rem\; font-size: 16px\; color: rgb(33\, 37\, 41)\; font-family: -apple-system\, BlinkMacSystemFont\, &quot\;Segoe UI&quot\;\, Roboto\, &quot\;Helvetica Neue&quot\;\, Arial\, &quot\;Noto Sans&quot\;\, sans-serif\, &quot\;Apple Color Emoji&quot\;\, &quot\;Segoe UI Emoji&quot\;\, &quot\;Segoe UI Symbol&quot\;\, &quot\;Noto Color Emoji&quot\;\;"><strong><span style="color:#222222\;"><span style="font-family:helvetica neue\;"><span style="font-size:16.0pt\;">FAIR &amp\; MIDWAY HOURS</span></span></span></strong><br />\n<span style="color:#222222\;"><span style="font-family:helvetica neue\;"><span style="font-size:16.0pt\;">Thursday:&nbsp\;&nbsp\;Gates Open at 3:00 pm</span></span></span><br />\n<span style="color:#222222\;"><span style="font-family:helvetica neue\;"><span style="font-size:16.0pt\;">Midway at 4:00 pm</span></span></span><br />\n<span style="color:#222222\;"><span style="font-family:helvetica neue\;"><span style="font-size:16.0pt\;">Friday:&nbsp\;&nbsp\;Gates Open at 3:00 pm</span></span></span><br />\n<span style="color:#222222\;"><span style="font-family:helvetica neue\;"><span style="font-size:16.0pt\;">Midway at 4:00 pm</span></span></span><br />\n<span style="color:#222222\;"><span style="font-family:helvetica neue\;"><span style="font-size:16.0pt\;">Saturday &amp\; Sunday:&nbsp\;&nbsp\;</span></span></span><br />\n<span style="color:#222222\;"><span style="font-family:helvetica neue\;"><span style="font-size:16.0pt\;">Gates Open at 8:00 am</span></span></span><br />\n<span style="color:#222222\;"><span style="font-family:helvetica neue\;"><span style="font-size:16.0pt\;">Midway at 12:00 pm&nbsp\;</span></span></span><br />\n&nbsp\;<br />\n<strong><span style="color:#222222\;"><span style="font-family:helvetica neue\;"><span style="font-size:16.0pt\;">BUILDING HOURS:</span></span></span></strong><br />\n<span style="color:#222222\;"><span style="font-family:helvetica neue\;"><span style="font-size:16.0pt\;">Thursday:&nbsp\; 3:00 pm - 9:00 pm</span></span></span><br />\n<span style="color:#222222\;"><span style="font-family:helvetica neue\;"><span style="font-size:16.0pt\;">(Roundhouse opens at 5:00 pm)</span></span></span><br />\n<span style="color:#222222\;"><span style="font-family:helvetica neue\;"><span style="font-size:16.0pt\;">Friday:&nbsp\;&nbsp\;3:00 pm - 9:00 pm</span></span></span><br />\n<span style="color:#222222\;"><span style="font-family:helvetica neue\;"><span style="font-size:16.0pt\;">Saturday:&nbsp\;&nbsp\;10:00 am - 9:00 pm</span></span></span><br />\n<span style="color:#222222\;"><span style="font-family:helvetica neue\;"><span style="font-size:16.0pt\;">Sunday:&nbsp\;&nbsp\;10:00 am - 8:00 pm</span></span></span><br />\n<span style="color:#222222\;"><span style="font-family:helvetica neue\;"><span style="font-size:16.0pt\;">Museum Hours</span></span></span><br />\n<span style="color:#222222\;"><span style="font-family:helvetica neue\;"><span style="font-size:16.0pt\;">Thursday:&nbsp\;&nbsp\;3:00 pm - 8:00 pm</span></span></span><br />\n<span style="color:#222222\;"><span style="font-family:helvetica neue\;"><span style="font-size:16.0pt\;">Friday:&nbsp\;&nbsp\;3:00 pm - 8:00 pm</span></span></span><br />\n<span style="color:#222222\;"><span style="font-family:helvetica neue\;"><span style="font-size:16.0pt\;">Saturday:&nbsp\;&nbsp\;8:00 am - 8:00 pm</span></span></span><br />\n<span style="color:#222222\;"><span style="font-family:helvetica neue\;"><span style="font-size:16.0pt\;">Sunday:&nbsp\;&nbsp\;8:00 am - 6:00 pm</span></span></span><br />\n&nbsp\;<br />\n<span style="color:#222222\;"><span style="font-family:helvetica neue\;"><span style="font-size:16.0pt\;">Coleman Brothers Shows Midway</span></span></span><br />\n<span style="color:#222222\;"><span style="font-family:helvetica neue\;"><span style="font-size:16.0pt\;">Pirate Man Dan &bull\; Axe Women Loggers of Maine&nbsp\;</span></span></span><br />\n&nbsp\;<span style="color:#222222\;"><span style="font-family:helvetica neue\;"><span style="font-size:16.0pt\;">Flippenout Trampoline Show</span></span></span><br />\n<span style="color:#222222\;"><span style="font-family:helvetica neue\;"><span style="font-size:16.0pt\;">Demolition Derby &bull\; Kids Power Wheels Demo</span></span></span><br />\n<span style="color:#222222\;"><span style="font-family:helvetica neue\;"><span style="font-size:16.0pt\;">Truck Pull &bull\;&nbsp\; Team East BMX &bull\; Shriners Clowns</span></span></span><br />\n<span style="color:#222222\;"><span style="font-family:helvetica neue\;"><span style="font-size:16.0pt\;">Little Diggers Construction Co.</span></span></span><br />\n<span style="color:#222222\;"><span style="font-family:helvetica neue\;"><span style="font-size:16.0pt\;">Flying High Frisbee Dogs</span></span></span><br />\n<span style="color:#222222\;"><span style="font-family:helvetica neue\;"><span style="font-size:16.0pt\;">Reptiles of New England</span></span></span><br />\n<span style="color:#222222\;"><span style="font-family:helvetica neue\;"><span style="font-size:16.0pt\;">22NEWS and CW Springfield Community Stage</span></span></span><br />\n<span style="color:#222222\;"><span style="font-family:helvetica neue\;"><span style="font-size:16.0pt\;">Agricultural Exhibits &amp\; Competitions</span></span></span><br />\n<span style="color:#222222\;"><span style="font-family:helvetica neue\;"><span style="font-size:16.0pt\;">Baby Barnyard &bull\; Reptiles of New England&nbsp\;</span></span></span><br />\n<span style="color:#222222\;"><span style="font-family:helvetica neue\;"><span style="font-size:16.0pt\;">Fish &amp\; Wildlife Exhibits</span></span></span><br />\n<span style="color:#222222\;"><span style="font-family:helvetica neue\;"><span style="font-size:16.0pt\;">Commercial Exhibits &bull\; Fair Museum</span></span></span><br />\n<span style="color:#222222\;"><span style="font-family:helvetica neue\;"><span style="font-size:16.0pt\;">Craft Vendors and much\, much more!</span></span></span><br />\n&nbsp\;<br />\n<strong><span style="color:#222222\;"><span style="font-family:helvetica neue\;"><span style="font-size:16.0pt\;">FAIR SHUTTLE</span></span></span></strong><br />\n<span style="color:#222222\;"><span style="font-family:helvetica neue\;"><span style="font-size:16.0pt\;">Free shuttle bus Noon-9:00 pm Saturday &amp\; Sunday</span></span></span><br />\n<span style="color:#222222\;"><span style="font-family:helvetica neue\;"><span style="font-size:16.0pt\;">to the fairgrounds.&nbsp\;</span></span></span><br />\n<span style="color:#222222\;"><span style="font-family:helvetica neue\;"><span style="font-size:16.0pt\;">Pick up and drop off at the Olive Street&nbsp\;</span></span></span><br />\n<span style="color:#222222\;"><span style="font-family:helvetica neue\;"><span style="font-size:16.0pt\;">Parking Garage and the Fairgrounds front gate</span></span></span><br />\n<span style="color:#222222\;"><span style="font-family:helvetica neue\;"><span style="font-size:16.0pt\;">Free Parking at parking garage.</span></span></span><br />\n<strong><span style="color:#222222\;"><span style="font-family:helvetica neue\;"><span style="font-size:16.0pt\;">Saturday\, September 6</span></span></span></strong><br />\n&nbsp\;&nbsp\;<span style="color:#222222\;"><span style="font-family:helvetica neue\;"><span style="font-size:16.0pt\;">8:00 am&nbsp\;Gates Open</span></span></span><br />\n<span style="color:#222222\;"><span style="font-family:helvetica neue\;"><span style="font-size:16.0pt\;">10:00 am&nbsp\;Children&rsquo\;s play area opens&nbsp\;</span></span></span><br />\n<span style="color:#222222\;"><span style="font-family:helvetica neue\;"><span style="font-size:16.0pt\;">11:15 pm&nbsp\;Flying High Frisbee Dogs&nbsp\;</span></span></span><br />\n<span style="color:#222222\;"><span style="font-family:helvetica neue\;"><span style="font-size:16.0pt\;">12:00 pm&nbsp\;Midway Opens&nbsp\;</span></span></span><br />\n<span style="color:#222222\;"><span style="font-family:helvetica neue\;"><span style="font-size:16.0pt\;">12:00 pm&nbsp\;Reptiles of New England&nbsp\;</span></span></span><br />\n<span style="color:#222222\;"><span style="font-family:helvetica neue\;"><span style="font-size:16.0pt\;">l2:00 pm&nbsp\;Rock and Roll Racing</span></span></span><br />\n<span style="color:#222222\;"><span style="font-family:helvetica neue\;"><span style="font-size:16.0pt\;">12:00 pm&nbsp\;Axe Women Loggers of Maine&nbsp\;</span></span></span><br />\n<span style="color:#222222\;"><span style="font-family:helvetica neue\;"><span style="font-size:16.0pt\;">12:45 pm&nbsp\;Flippenout Trampoline Show</span></span></span><br />\n<span style="color:#222222\;"><span style="font-family:helvetica neue\;"><span style="font-size:16.0pt\;">1:00 pm&nbsp\;Kids Power Wheel Demo</span></span></span><br />\n<span style="color:#222222\;"><span style="font-family:helvetica neue\;"><span style="font-size:16.0pt\;">1:15 pm&nbsp\;Team East BMX</span></span></span><br />\n<span style="color:#222222\;"><span style="font-family:helvetica neue\;"><span style="font-size:16.0pt\;">1:45 pm&nbsp\;Pirate Man Dan&nbsp\;</span></span></span><br />\n<span style="color:#222222\;"><span style="font-family:helvetica neue\;"><span style="font-size:16.0pt\;">2:00 pm&nbsp\;Reptiles of New England</span></span></span><br />\n<span style="color:#222222\;"><span style="font-family:helvetica neue\;"><span style="font-size:16.0pt\;">2:30 pm&nbsp\;Flying High Frisbee Dogs&nbsp\;</span></span></span><br />\n<span style="color:#222222\;"><span style="font-family:helvetica neue\;"><span style="font-size:16.0pt\;">3:15 pm&nbsp\;Axe Women Loggers of Maine</span></span></span><br />\n<span style="color:#222222\;"><span style="font-family:helvetica neue\;"><span style="font-size:16.0pt\;">4:00 pm&nbsp\;Reptiles of New England</span></span></span><br />\n<span style="color:#222222\;"><span style="font-family:helvetica neue\;"><span style="font-size:16.0pt\;">4:00 pm&nbsp\;Flippenout Trampoline Show</span></span></span><br />\n<span style="color:#222222\;"><span style="font-family:helvetica neue\;"><span style="font-size:16.0pt\;">4:15 pm&nbsp\;Team East BMX</span></span></span><br />\n<span style="color:#222222\;"><span style="font-family:helvetica neue\;"><span style="font-size:16.0pt\;">5:00 pm&nbsp\;Flying High Frisbee Dogs&nbsp\;</span></span></span><br />\n<span style="color:#222222\;"><span style="font-family:helvetica neue\;"><span style="font-size:16.0pt\;">5:45 pm&nbsp\;Pirate Man Dan</span></span></span><br />\n<span style="color:#222222\;"><span style="font-family:helvetica neue\;"><span style="font-size:16.0pt\;">6:00 pm&nbsp\;Reptiles of New England</span></span></span><br />\n<span style="color:#222222\;"><span style="font-family:helvetica neue\;"><span style="font-size:16.0pt\;">6:00 pm&nbsp\;Stoney Roberts&rsquo\;&nbsp\; Demo Derby</span></span></span><br />\n<span style="color:#222222\;"><span style="font-family:helvetica neue\;"><span style="font-size:16.0pt\;">6:30 pm&nbsp\;Flippenout Trampoline Show</span></span></span><br />\n<span style="color:#222222\;"><span style="font-family:helvetica neue\;"><span style="font-size:16.0pt\;">7:00 pm&nbsp\;Fire Spinning by Sam Staples</span></span></span><br />\n<span style="color:#222222\;"><span style="font-family:helvetica neue\;"><span style="font-size:16.0pt\;">7:15 pm&nbsp\;Axe Women Loggers of Maine</span></span></span></p>\n
LOCATION:Franklin County Fairgrounds 89 Wisdom Way Greenfield
UID:e.2182.24930
SEQUENCE:3
DTSTAMP:20260424T031940Z
URL:https://chamber.franklincc.org/events/details/176th-annual-franklin-county-fair-09-06-2025-24930
END:VEVENT

END:VCALENDAR
