BEGIN:VCALENDAR
VERSION:2.0
PRODID:-//ChamberMaster//Event Calendar 2.0//EN
METHOD:PUBLISH
X-PUBLISHED-TTL:P3D
REFRESH-INTERVAL:P3D
CALSCALE:GREGORIAN
BEGIN:VEVENT
DTSTART:20230907T190000Z
DTEND:20230908T020000Z
X-MICROSOFT-CDO-ALLDAYEVENT:FALSE
SUMMARY:174th Franklin County Fair - Larger Than Life
DESCRIPTION:Daily attractions:\n\nOverdrive Monster Truck Show\n\nColeman Brothers Show - Midway\n\nRosaire's Royal Racers\n\nPirate Man Dan\n\nFlying High Dogs\n\nXPOGO: Pogo Stunt Stick Show\n\nAxe Women of Maine\n\nBaby Barnyard\n\nDemolition Derbies (Sat & Sun)\n\n\n\n22News and CW Springfield Community Stage\n\nAgricultural Exhibits and Competitions\n\nFish & Wildlife Exhibits\n\nCommercial Exhibits\n\nFair Museum\n\nCrafts\n\nands much more\n\n\n\nFranklin County Fair Hours\n\nThursday: Gate opens at 3pm\n\nFriday: Gate opens at 3pm\n\nSaturday: Gate opens at 8am\n\nSunday: Gate opens at 8am\n\nThere is no set closing time for the fair\, though generally it's open until at least 9pm on Thursday and Sunday\, and at least 10pm on Friday and Saturday. Poor weather may result in an earlier closing time.\n\nFranklin County Fair Hours\n\nThursday: Gate opens at 3pm\n\nFriday: Gate opens at 3pm\n\nSaturday: Gate opens at 8am\n\nSunday: Gate opens at 8am\n\nThere is no set closing time for the fair\, though generally it's open until at least 9pm on Thursday and Sunday\, and at least 10pm on Friday and Saturday. Poor weather may result in an earlier closing time.\n\nBuilding Hours\n\nThursday: 3pm   9pm\n\n(Roundhouse at 5pm)\n\nFriday: 3pm   9pm\n\nSaturday: 10am   9pm\n\nSunday: 10am   8pm\n\nBuildings include Roundhouse\, Youth Hall\, Fish & Wildlife\, Museum\, Dole Building\, Baby Barnyard\, Grandstand\, Poultry\, and Rabbits.\n\n\n\nShuttle bus Saturday & Sunday to the fairgrounds\, pick-up and drop-off at the Olive Street Parking Garage (free parking at the garage) 10:00 a.m. to 10:00 p.m.
X-ALT-DESC;FMTTYPE=text/html:Daily attractions:<br />\nOverdrive Monster Truck Show<br />\nColeman Brothers Show - Midway<br />\nRosaire&#39\;s Royal Racers<br />\nPirate Man Dan<br />\nFlying High Dogs<br />\nXPOGO: Pogo Stunt Stick Show<br />\nAxe Women of Maine<br />\nBaby Barnyard<br />\nDemolition Derbies (Sat &amp\; Sun)<br />\n<br />\n22News and CW Springfield Community Stage<br />\nAgricultural Exhibits and Competitions<br />\nFish &amp\; Wildlife Exhibits<br />\nCommercial Exhibits<br />\nFair Museum<br />\nCrafts<br />\nands much more<br />\n<br />\nFranklin County Fair Hours<br />\nThursday: Gate opens at 3pm<br />\nFriday: Gate opens at 3pm<br />\nSaturday: Gate opens at 8am<br />\nSunday: Gate opens at 8am<br />\nThere is no set closing time for the fair\, though generally it&#39\;s open until at least 9pm on Thursday and Sunday\, and at least 10pm on Friday and Saturday. Poor weather may result in an earlier closing time.<br />\nFranklin County Fair Hours<br />\nThursday: Gate opens at 3pm<br />\nFriday: Gate opens at 3pm<br />\nSaturday: Gate opens at 8am<br />\nSunday: Gate opens at 8am<br />\nThere is no set closing time for the fair\, though generally it&#39\;s open until at least 9pm on Thursday and Sunday\, and at least 10pm on Friday and Saturday. Poor weather may result in an earlier closing time.<br />\nBuilding Hours<br />\nThursday: 3pm &ndash\; 9pm<br />\n(Roundhouse at 5pm)<br />\nFriday: 3pm &ndash\; 9pm<br />\nSaturday: 10am &ndash\; 9pm<br />\nSunday: 10am &ndash\; 8pm<br />\nBuildings include Roundhouse\, Youth Hall\, Fish &amp\; Wildlife\, Museum\, Dole Building\, Baby Barnyard\, Grandstand\, Poultry\, and Rabbits.<br />\n<br />\nShuttle bus Saturday &amp\; Sunday to the fairgrounds\, pick-up and drop-off at the Olive Street Parking Garage (free parking at the garage) 10:00 a.m. to 10:00 p.m.
LOCATION:Franklin County Fairgrounds 89 Wisdom Way\, Greenfield
UID:e.2182.19807
SEQUENCE:3
DTSTAMP:20260423T091039Z
URL:https://chamber.franklincc.org/events/details/174th-franklin-county-fair-larger-than-life-19807
END:VEVENT

END:VCALENDAR
