BEGIN:VCALENDAR
VERSION:2.0
PRODID:-//ChamberMaster//Event Calendar 2.0//EN
METHOD:PUBLISH
X-PUBLISHED-TTL:P3D
REFRESH-INTERVAL:P3D
CALSCALE:GREGORIAN
BEGIN:VEVENT
DTSTART:20230909T120000Z
DTEND:20230910T030000Z
X-MICROSOFT-CDO-ALLDAYEVENT:FALSE
SUMMARY:174th Franklin County Fair
DESCRIPTION:The full entertainment schedule will be announced soon. Check out some of the entertainers coming to this year's Fair!\n\n\n\nFranklin County Fair Hours\n\nThursday: Gate opens at 3pm\n\nFriday: Gate opens at 3pm\n\nSaturday: Gate opens at 8am\n\nSunday: Gate opens at 8am\n\nThere is no set closing time for the fair\, though generally it's open until at least 9pm on Thursday and Sunday\, and at least 10pm on Friday and Saturday. Poor weather may result in an earlier closing time.\n\nFranklin County Fair Hours\n\nThursday: Gate opens at 3pm\n\nFriday: Gate opens at 3pm\n\nSaturday: Gate opens at 8am\n\nSunday: Gate opens at 8am\n\nThere is no set closing time for the fair\, though generally it's open until at least 9pm on Thursday and Sunday\, and at least 10pm on Friday and Saturday. Poor weather may result in an earlier closing time.\n\nBuilding Hours\n\nThursday: 3pm   9pm\n\n(Roundhouse at 5pm)\n\nFriday: 3pm   9pm\n\nSaturday: 10am   9pm\n\nSunday: 10am   8pm\n\nBuildings include Roundhouse\, Youth Hall\, Fish & Wildlife\, Museum\, Dole Building\, Baby Barnyard\, Grandstand\, Poultry\, and Rabbits.
X-ALT-DESC;FMTTYPE=text/html:The full entertainment schedule will be announced soon. Check out some of the entertainers coming to this year&#39\;s Fair!<br />\n<br />\nFranklin County Fair Hours<br />\nThursday: Gate opens at 3pm<br />\nFriday: Gate opens at 3pm<br />\nSaturday: Gate opens at 8am<br />\nSunday: Gate opens at 8am<br />\nThere is no set closing time for the fair\, though generally it&#39\;s open until at least 9pm on Thursday and Sunday\, and at least 10pm on Friday and Saturday. Poor weather may result in an earlier closing time.<br />\nFranklin County Fair Hours<br />\nThursday: Gate opens at 3pm<br />\nFriday: Gate opens at 3pm<br />\nSaturday: Gate opens at 8am<br />\nSunday: Gate opens at 8am<br />\nThere is no set closing time for the fair\, though generally it&#39\;s open until at least 9pm on Thursday and Sunday\, and at least 10pm on Friday and Saturday. Poor weather may result in an earlier closing time.<br />\nBuilding Hours<br />\nThursday: 3pm &ndash\; 9pm<br />\n(Roundhouse at 5pm)<br />\nFriday: 3pm &ndash\; 9pm<br />\nSaturday: 10am &ndash\; 9pm<br />\nSunday: 10am &ndash\; 8pm<br />\nBuildings include Roundhouse\, Youth Hall\, Fish &amp\; Wildlife\, Museum\, Dole Building\, Baby Barnyard\, Grandstand\, Poultry\, and Rabbits.
LOCATION:Franklin County Fairgrounds 89 Wisdom Way\, Greenfield
UID:e.2182.19809
SEQUENCE:3
DTSTAMP:20260425T011303Z
URL:https://chamber.franklincc.org/events/details/174th-franklin-county-fair-09-09-2023-19809
END:VEVENT

END:VCALENDAR
