BEGIN:VCALENDAR
VERSION:2.0
PRODID:-//ChamberMaster//Event Calendar 2.0//EN
METHOD:PUBLISH
X-PUBLISHED-TTL:P3D
REFRESH-INTERVAL:P3D
CALSCALE:GREGORIAN
BEGIN:VEVENT
DTSTART:20230604T140000Z
DTEND:20230604T180000Z
X-MICROSOFT-CDO-ALLDAYEVENT:FALSE
SUMMARY:16th Annual Free Family Fishing Day
DESCRIPTION:Our annual Family Fishing Day\, from 10:00 a.m. 2:00 p.m. at Barton Cove\, with additional activities at the Great Falls Discovery Center. Join us for a day of FREE fishing fun. Adults and children of all ages are welcome. Children must be accompanied by an adult. Event is held rain or shine. Parking is free at each site.
X-ALT-DESC;FMTTYPE=text/html:Our annual Family Fishing Day\, from 10:00 a.m.&mdash\;2:00 p.m. at Barton Cove\, with additional activities at the Great Falls Discovery Center. Join us for a day of FREE fishing fun. Adults and children of all ages are welcome. Children must be accompanied by an adult. Event is held rain or shine. Parking is free at each site.&nbsp\;
LOCATION:Great Falls Discovery Center and Barton Cove
UID:e.2182.19683
SEQUENCE:3
DTSTAMP:20260425T015210Z
URL:https://chamber.franklincc.org/events/details/16th-annual-free-family-fishing-day-19683
END:VEVENT

END:VCALENDAR
