BEGIN:VCALENDAR
VERSION:2.0
PRODID:-//ChamberMaster//Event Calendar 2.0//EN
METHOD:PUBLISH
X-PUBLISHED-TTL:P3D
REFRESH-INTERVAL:P3D
CALSCALE:GREGORIAN
BEGIN:VEVENT
DTSTART:20250803T140000Z
DTEND:20250803T210000Z
X-MICROSOFT-CDO-ALLDAYEVENT:FALSE
SUMMARY:12th Annual Pocumtuck Homelands Festival
DESCRIPTION:A celebration of Native American art\, music\, and cultures. \n\n\n\nForty outstanding Indigenous artisans will sell traditional craft including jewelry\, pipes\, baskets and instruments. The all-day schedule includes outstanding presentations by Mohawk Elder Tom Porter\, Evan Pritchard and David Brule. The riverfront will be filled with traditional music by Nipmuck flute maker Hawk Henries\, Akwesasne singer Theresa Bear Fox\, Abenaki singer-songwriter Mignon Geli\, Nulhegan Abenaki singer-songwriter Bryan Blanchette and the Penobscot Rez Dog Singers. Festival goers can participate in social dance lead by Wampanoag artist Annawon Weeden. On Sunday (only) there will be a special performance by Hawaiian dance ensemble Pua Ali i  Ilima o Nuioka.\n\n\n\nThis FREE\, family-friendly and accessible event is presented by the Nolumbeka Project with support from RiverCulture and many more. The Pocumtuck Homelands Festival is rain or shine. Performances and presentations are sheltered.\n\n\n\nFor more information and a schedule visit https://nolumbekaproject.org/events/
X-ALT-DESC;FMTTYPE=text/html:<span style="color:black\;"><span style="font-family:aptos\,sans-serif\;"><span style="font-size:12.0pt\;">A celebration of Native American art\, music\, and cultures.&nbsp\;<br />\n<br />\nForty outstanding Indigenous artisans will sell traditional craft including jewelry\, pipes\, baskets and instruments. The all-day schedule includes outstanding presentations by Mohawk Elder Tom Porter\, Evan Pritchard and David Brule. The riverfront will be filled with traditional music by Nipmuck flute maker Hawk Henries\, Akwesasne singer Theresa Bear Fox\, Abenaki singer-songwriter Mignon Geli\, Nulhegan Abenaki singer-songwriter Bryan Blanchette and the Penobscot Rez Dog Singers. Festival goers can participate in social dance lead by Wampanoag artist Annawon Weeden. On Sunday (only) there will be a special performance by Hawaiian dance ensemble Pua Ali</span></span></span><span style="color:black\;"><span style="font-family:arial\,sans-serif\;"><span style="font-size:12.0pt\;">&#699\;</span></span></span><span style="color:black\;"><span style="font-family:aptos\,sans-serif\;"><span style="font-size:12.0pt\;">i </span></span></span><span style="color:black\;"><span style="font-family:arial\,sans-serif\;"><span style="font-size:12.0pt\;">&#699\;</span></span></span><span style="color:black\;"><span style="font-family:aptos\,sans-serif\;"><span style="font-size:12.0pt\;">Ilima o Nuioka.<br />\n<br />\nThis FREE\, family-friendly and accessible event is presented by the Nolumbeka Project with support from RiverCulture and many more. The Pocumtuck Homelands Festival is rain or shine. Performances and presentations are sheltered.<br />\n<br />\nFor more information and a schedule visit <a href="https://nolumbekaproject.org/events/">https://nolumbekaproject.org/events/</a></span></span></span>
LOCATION:On the Unity Park riverfront in Turners Falls\, MA.
UID:e.2182.24950
SEQUENCE:3
DTSTAMP:20260424T032654Z
URL:https://chamber.franklincc.org/events/details/12th-annual-pocumtuck-homelands-festival-08-03-2025-24950
END:VEVENT

END:VCALENDAR
