BEGIN:VCALENDAR
VERSION:2.0
PRODID:-//ChamberMaster//Event Calendar 2.0//EN
METHOD:PUBLISH
X-PUBLISHED-TTL:P3D
REFRESH-INTERVAL:P3D
CALSCALE:GREGORIAN
BEGIN:VEVENT
DTSTART:20250816T120000Z
DTEND:20250817T020000Z
X-MICROSOFT-CDO-ALLDAYEVENT:FALSE
SUMMARY:107th Annual Heath Fair
DESCRIPTION:This year's festivities include: antique tractor pull\, displays in the exhibit hall\, children's activities\, and agricultural displays. Craft beer and cider tent\, other food and beverage options. Musical performances. Petting zoo.\n\n\n\nSaturday:\n\nChicken BBQ served by Heath firefighters\n\nNoon - Sheep shearing demonstration\n\n1 p.m. - Cow plop bingo\n\n1-4 pm - Wagon rides\n\n6 pm - Truck Pull
X-ALT-DESC;FMTTYPE=text/html:This year&#39\;s festivities include: antique tractor pull\, displays in the exhibit hall\, children&#39\;s activities\, and agricultural displays. Craft beer and cider tent\, other food and beverage options. Musical performances. Petting zoo.<br />\n<br />\nSaturday:<br />\nChicken BBQ served by Heath firefighters<br />\nNoon - Sheep shearing demonstration<br />\n1 p.m. - Cow plop bingo<br />\n1-4 pm - Wagon rides<br />\n6 pm - Truck Pull
LOCATION:
UID:e.2182.25096
SEQUENCE:3
DTSTAMP:20260424T031930Z
URL:https://chamber.franklincc.org/events/details/107th-annual-heath-fair-08-16-2025-25096
END:VEVENT

END:VCALENDAR
