BEGIN:VCALENDAR
VERSION:2.0
PRODID:-//ChamberMaster//Event Calendar 2.0//EN
METHOD:PUBLISH
X-PUBLISHED-TTL:P3D
REFRESH-INTERVAL:P3D
CALSCALE:GREGORIAN
BEGIN:VEVENT
DTSTART:20190817T120000Z
DTEND:20190818T030000Z
X-MICROSOFT-CDO-ALLDAYEVENT:FALSE
SUMMARY:102nd Annual Heath Fair
DESCRIPTION:Three days of food\, fun\, demonstrations\, kids games\, music and many attractions. Fireworks Friday night.
X-ALT-DESC;FMTTYPE=text/html:Three days of food\, fun\, demonstrations\, kids games\, music and many attractions. Fireworks Friday night.
LOCATION:Heath Fairgrounds 9 Hosmer Road\, Heath
UID:e.2182.15441
SEQUENCE:3
DTSTAMP:20260424T082243Z
URL:https://chamber.franklincc.org/events/details/102nd-annual-heath-fair-08-17-2019-15441
END:VEVENT

END:VCALENDAR
