BEGIN:VCALENDAR
VERSION:2.0
PRODID:-//ChamberMaster//Event Calendar 2.0//EN
METHOD:PUBLISH
X-PUBLISHED-TTL:P3D
REFRESH-INTERVAL:P3D
CALSCALE:GREGORIAN
BEGIN:VEVENT
DTSTART:20241012T130000Z
DTEND:20241012T180000Z
X-MICROSOFT-CDO-ALLDAYEVENT:FALSE
SUMMARY:102nd Anniversary St. Mary's Parish Fair
DESCRIPTION:Featuring pies and baked goods\, cash & scratch ticket raffles\, gift basket raffles\, restaurant raffles\, books and puzzles\, cemetery & decorative boxes\, vendors\, apples\, children's room and more.. Beef Stew and Pie Dinner served from 11 a.m. to 2 p.m. - take-out available.
X-ALT-DESC;FMTTYPE=text/html:Featuring pies and baked goods\, cash &amp\; scratch ticket raffles\, gift basket raffles\, restaurant raffles\, books and puzzles\, cemetery &amp\; decorative boxes\, vendors\, apples\, children&#39\;s room and more.. Beef Stew and Pie Dinner served from 11 a.m. to 2 p.m. - take-out available.
LOCATION:St. Mary's Church Corner of Cheney n& West Myrtle Streets in Orange.
UID:e.2182.23800
SEQUENCE:3
DTSTAMP:20260424T045257Z
URL:https://chamber.franklincc.org/events/details/102nd-anniversary-st-mary-s-parish-fair-23800
END:VEVENT

END:VCALENDAR
