BEGIN:VCALENDAR
VERSION:2.0
PRODID:-//ChamberMaster//Event Calendar 2.0//EN
METHOD:PUBLISH
X-PUBLISHED-TTL:P3D
REFRESH-INTERVAL:P3D
CALSCALE:GREGORIAN
BEGIN:VEVENT
DTSTART;VALUE=DATE:20230203
DTEND;VALUE=DATE:20230206
TRANSP:TRANSPARENT
X-MICROSOFT-CDO-ALLDAYEVENT:TRUE
SUMMARY:101st Annual Greenfield Winter Carnival
DESCRIPTION:Check the website - because of the COLD weather some times and days have been adjusted. \n\nBe a part of a tradition that began 101 years ago! Events all over Greenfield\, all weekend long! Ice Sculpture Contests\, Fireworks\, Parade of Lights\, Glow Party\, Family Fun Fest\, Donuts with Olaf\, Laser Light Show\, Jigsaw Puzzle Contest\, Cribbage Tournament\, Cardboard Sled Race\, K9 Keg Pull\, Chili Cook Off\, Vintage Snowmobiles\, Sledding\, Ice Skating\, and so much more!
X-ALT-DESC;FMTTYPE=text/html:<span style="color:rgb(0\, 0\, 0)\; font-family:verdana\,arial\,helvetica\,sans-serif\; font-size:12px">Check the website - because of the COLD weather some times and days have been adjusted.&nbsp\;<br />\nBe a part of a tradition that began 101 years ago! Events all over Greenfield\, all weekend long! Ice Sculpture Contests\, Fireworks\, Parade of Lights\, Glow Party\, Family Fun Fest\, Donuts with Olaf\, Laser Light Show\, Jigsaw Puzzle Contest\, Cribbage Tournament\, Cardboard Sled Race\, K9 Keg Pull\, Chili Cook Off\, Vintage Snowmobiles\, Sledding\, Ice Skating\, and so much more!</span>
LOCATION:Greenfield
UID:e.2182.19336
SEQUENCE:3
DTSTAMP:20260424T202604Z
URL:https://chamber.franklincc.org/events/details/101st-annual-greenfield-winter-carnival-19336
END:VEVENT

END:VCALENDAR
