BEGIN:VCALENDAR
VERSION:2.0
PRODID:-//ChamberMaster//Event Calendar 2.0//EN
METHOD:PUBLISH
X-PUBLISHED-TTL:P3D
REFRESH-INTERVAL:P3D
CALSCALE:GREGORIAN
BEGIN:VEVENT
DTSTART:20170614T213000Z
DTEND:20170614T230000Z
X-MICROSOFT-CDO-ALLDAYEVENT:FALSE
SUMMARY:100 Who Care - Franklin County
DESCRIPTION:The second meeting / party for the local giving group "100 Who Care- Franklin County". Local community members are invited to join by committing to attending three meetings per year to vote on and donate to a local nonprofit. A great way to meet more people in our community as well. The first half hour of the event is for registration and socializing\, followed by the hour-long meeting at 6:00 to listen to short talks about local nonprofits\, then vote. Signing up ahead of time (and bringing your checkbook to donate to a local cause) is encouraged. Members can nominate a nonprofit for a chance at winning the the evenings' donations\, as well. Visit www.Facebook.com/100WCFC for more information.
X-ALT-DESC;FMTTYPE=text/html:The second meeting / party for the local giving group &quot\;100 Who Care- Franklin County&quot\;. Local community members are invited to join by committing to attending three meetings per year to vote on and donate to a local nonprofit. A great way to meet more people in our community as well. The first half hour of the event is for registration and socializing\, followed by the hour-long meeting at 6:00 to listen to short talks about local nonprofits\, then vote. Signing up ahead of time (and bringing your checkbook to donate to a local cause) is encouraged. Members can nominate a nonprofit for a chance at winning the the evenings&#39\; donations\, as well. Visit <a href="http://www.Facebook.com/100WCFC">www.Facebook.com/100WCFC</a> for more information.
LOCATION:Hawk & Reed Performing Arts Center (formerly the Arts Block)\, on the main floor\, 269 Main Street in Greenfield
UID:e.2182.8243
SEQUENCE:3
DTSTAMP:20260421T153957Z
URL:https://chamber.franklincc.org/events/details/100-who-care-franklin-county-06-14-2017-8243
END:VEVENT

END:VCALENDAR
